BEGIN:VCALENDAR
VERSION:2.0
PRODID:-//Óbudai Platán Könyvtár - ECPv6.15.11//NONSGML v1.0//EN
CALSCALE:GREGORIAN
METHOD:PUBLISH
X-WR-CALNAME:Óbudai Platán Könyvtár
X-ORIGINAL-URL:https://www.platankonyvtar.hu
X-WR-CALDESC:Események Óbudai Platán Könyvtár
REFRESH-INTERVAL;VALUE=DURATION:PT1H
X-Robots-Tag:noindex
X-PUBLISHED-TTL:PT1H
BEGIN:VTIMEZONE
TZID:Europe/Budapest
BEGIN:DAYLIGHT
TZOFFSETFROM:+0100
TZOFFSETTO:+0200
TZNAME:CEST
DTSTART:20240331T010000
END:DAYLIGHT
BEGIN:STANDARD
TZOFFSETFROM:+0200
TZOFFSETTO:+0100
TZNAME:CET
DTSTART:20241027T010000
END:STANDARD
BEGIN:DAYLIGHT
TZOFFSETFROM:+0100
TZOFFSETTO:+0200
TZNAME:CEST
DTSTART:20250330T010000
END:DAYLIGHT
BEGIN:STANDARD
TZOFFSETFROM:+0200
TZOFFSETTO:+0100
TZNAME:CET
DTSTART:20251026T010000
END:STANDARD
BEGIN:DAYLIGHT
TZOFFSETFROM:+0100
TZOFFSETTO:+0200
TZNAME:CEST
DTSTART:20260329T010000
END:DAYLIGHT
BEGIN:STANDARD
TZOFFSETFROM:+0200
TZOFFSETTO:+0100
TZNAME:CET
DTSTART:20261025T010000
END:STANDARD
END:VTIMEZONE
BEGIN:VEVENT
DTSTART;TZID=Europe/Budapest:20250807T100000
DTEND;TZID=Europe/Budapest:20250807T100000
DTSTAMP:20260425T153655
CREATED:20250710T095053Z
LAST-MODIFIED:20250710T095053Z
UID:498-1754560800-1754560800@www.platankonyvtar.hu
SUMMARY:Mindennap szülinap! - Boldog születésnapot!
DESCRIPTION:Meglepetés mesékkel\, versekkel és kreatív játékokkal várjuk az 5-8 éves gyerekeket háromalkalmas foglalkozás-sorozatunkon\, amelynek a témája a születésnap lesz! Bármelyik alkalmon külön-külön is részt lehet venni.  A program ingyenes.  \n  \nTovábbi időpontok:   \nPapírszínház: Laurent és Olivier Souillé – Születésnaptolvaj 2025. augusztus 14. 10.00-12.00 
URL:https://www.platankonyvtar.hu/esemeny/mindennap-szulinap-boldog-szuletesnapot/
LOCATION:Óbudai Platán Könyvtár\, Arató Emil tér 1.\, Budapest\, 1031\, Hungary
ATTACH;FMTTYPE=image/png:https://www.platankonyvtar.hu/wp-content/uploads/2025/07/ls_mindennap.png
END:VEVENT
END:VCALENDAR